BEGIN:VCALENDAR
METHOD:PUBLISH
PRODID:www-ww-tf-fau-eu//Events//EN
VERSION:2.0
BEGIN:VEVENT
SUMMARY:WW-Colloquium: Prof. Dr. Eli Zysman-Colman Design of multireso
 nance thermally activated delayed fluorescence materials for high-perf
 ormance organic light-emitting diodes
UID:040000008200E00074C5B7101A82E0080000000000F8D18E2689DC010000000000
 00000010000000BB59968809409E428C7717234313FF33
DTSTART:20260120T150000Z
DTEND:20260120T170000Z
LOCATION:H14 / Zoom
DTSTAMP:20260420T213802Z
END:VEVENT
END:VCALENDAR